BEGIN:VCALENDAR
VERSION:2.0
PRODID:-//Silton Village / Dorset - ECPv6.15.20//NONSGML v1.0//EN
CALSCALE:GREGORIAN
METHOD:PUBLISH
X-ORIGINAL-URL:https://siltonvillage.co.uk
X-WR-CALDESC:Events for Silton Village / Dorset
REFRESH-INTERVAL;VALUE=DURATION:PT1H
X-Robots-Tag:noindex
X-PUBLISHED-TTL:PT1H
BEGIN:VTIMEZONE
TZID:Europe/London
BEGIN:DAYLIGHT
TZOFFSETFROM:+0000
TZOFFSETTO:+0100
TZNAME:BST
DTSTART:20230326T010000
END:DAYLIGHT
BEGIN:STANDARD
TZOFFSETFROM:+0100
TZOFFSETTO:+0000
TZNAME:GMT
DTSTART:20231029T010000
END:STANDARD
BEGIN:DAYLIGHT
TZOFFSETFROM:+0000
TZOFFSETTO:+0100
TZNAME:BST
DTSTART:20240331T010000
END:DAYLIGHT
BEGIN:STANDARD
TZOFFSETFROM:+0100
TZOFFSETTO:+0000
TZNAME:GMT
DTSTART:20241027T010000
END:STANDARD
BEGIN:DAYLIGHT
TZOFFSETFROM:+0000
TZOFFSETTO:+0100
TZNAME:BST
DTSTART:20250330T010000
END:DAYLIGHT
BEGIN:STANDARD
TZOFFSETFROM:+0100
TZOFFSETTO:+0000
TZNAME:GMT
DTSTART:20251026T010000
END:STANDARD
END:VTIMEZONE
BEGIN:VEVENT
DTSTART;TZID=Europe/London:20241103T180000
DTEND;TZID=Europe/London:20241103T223000
DTSTAMP:20260423T193413
CREATED:20241007T200802Z
LAST-MODIFIED:20241007T200802Z
UID:10000904-1730656800-1730673000@siltonvillage.co.uk
SUMMARY:H.Monksummers
DESCRIPTION:
URL:https://siltonvillage.co.uk/event/h-monksummers-4/
LOCATION:Village Hall
END:VEVENT
BEGIN:VEVENT
DTSTART;TZID=Europe/London:20241107T100000
DTEND;TZID=Europe/London:20241107T130000
DTSTAMP:20260423T193413
CREATED:20240710T200330Z
LAST-MODIFIED:20240927T153112Z
UID:10000021-1730973600-1730984400@siltonvillage.co.uk
SUMMARY:Wyndham Artsists
DESCRIPTION:
URL:https://siltonvillage.co.uk/event/wyndham-artsists-2/2024-11-07/
LOCATION:Village Hall
END:VEVENT
BEGIN:VEVENT
DTSTART;TZID=Europe/London:20241111T140000
DTEND;TZID=Europe/London:20241111T170000
DTSTAMP:20260423T193413
CREATED:20240710T080728Z
LAST-MODIFIED:20240723T093736Z
UID:10000790-1731333600-1731344400@siltonvillage.co.uk
SUMMARY:Wessex Motor Cycle Club
DESCRIPTION:
URL:https://siltonvillage.co.uk/event/wessex-motor-cycle-club/2024-11-11/
LOCATION:Village Hall
ATTACH;FMTTYPE=image/png:https://siltonvillage.co.uk/wp-content/uploads/2024/07/image.png
END:VEVENT
BEGIN:VEVENT
DTSTART;TZID=Europe/London:20241112T180000
DTEND;TZID=Europe/London:20241112T200000
DTSTAMP:20260423T193413
CREATED:20240922T083830Z
LAST-MODIFIED:20240922T094139Z
UID:10000901-1731434400-1731441600@siltonvillage.co.uk
SUMMARY:Parish Meeting
DESCRIPTION:
URL:https://siltonvillage.co.uk/event/parish-meeting/
LOCATION:Village Hall
END:VEVENT
BEGIN:VEVENT
DTSTART;TZID=Europe/London:20241114T100000
DTEND;TZID=Europe/London:20241114T130000
DTSTAMP:20260423T193413
CREATED:20240710T200330Z
LAST-MODIFIED:20240927T153112Z
UID:10000022-1731578400-1731589200@siltonvillage.co.uk
SUMMARY:Wyndham Artsists
DESCRIPTION:
URL:https://siltonvillage.co.uk/event/wyndham-artsists-2/2024-11-14/
LOCATION:Village Hall
END:VEVENT
BEGIN:VEVENT
DTSTART;TZID=Europe/London:20241115T180000
DTEND;TZID=Europe/London:20241115T223000
DTSTAMP:20260423T193413
CREATED:20240710T202229Z
LAST-MODIFIED:20240710T202229Z
UID:10000869-1731693600-1731709800@siltonvillage.co.uk
SUMMARY:H.Monksummers
DESCRIPTION:
URL:https://siltonvillage.co.uk/event/h-monksummers-5/
LOCATION:Village Hall
END:VEVENT
BEGIN:VEVENT
DTSTART;TZID=Europe/London:20241121T100000
DTEND;TZID=Europe/London:20241121T130000
DTSTAMP:20260423T193413
CREATED:20240710T200330Z
LAST-MODIFIED:20240927T153112Z
UID:10000023-1732183200-1732194000@siltonvillage.co.uk
SUMMARY:Wyndham Artsists
DESCRIPTION:
URL:https://siltonvillage.co.uk/event/wyndham-artsists-2/2024-11-21/
LOCATION:Village Hall
END:VEVENT
BEGIN:VEVENT
DTSTART;TZID=Europe/London:20241122T140000
DTEND;TZID=Europe/London:20241122T170000
DTSTAMP:20260423T193413
CREATED:20240911T161550Z
LAST-MODIFIED:20240911T161550Z
UID:10000897-1732284000-1732294800@siltonvillage.co.uk
SUMMARY:Preparation for Coffee Morning
DESCRIPTION:
URL:https://siltonvillage.co.uk/event/preparation-for-coffee-morning/
LOCATION:Village Hall
END:VEVENT
BEGIN:VEVENT
DTSTART;TZID=Europe/London:20241123T100000
DTEND;TZID=Europe/London:20241123T130000
DTSTAMP:20260423T193413
CREATED:20240911T161459Z
LAST-MODIFIED:20240911T161459Z
UID:10000896-1732356000-1732366800@siltonvillage.co.uk
SUMMARY:Christmas Coffee Morning
DESCRIPTION:
URL:https://siltonvillage.co.uk/event/christmas-coffee-morning/
LOCATION:Village Hall
END:VEVENT
BEGIN:VEVENT
DTSTART;TZID=Europe/London:20241126T130000
DTEND;TZID=Europe/London:20241126T150000
DTSTAMP:20260423T193413
CREATED:20241108T092959Z
LAST-MODIFIED:20241119T165828Z
UID:10000928-1732626000-1732633200@siltonvillage.co.uk
SUMMARY:Katie Smith
DESCRIPTION:
URL:https://siltonvillage.co.uk/event/katie-smith-really-sing-tbc/
LOCATION:Village Hall
END:VEVENT
BEGIN:VEVENT
DTSTART;TZID=Europe/London:20241128T100000
DTEND;TZID=Europe/London:20241128T130000
DTSTAMP:20260423T193413
CREATED:20240710T200330Z
LAST-MODIFIED:20240927T153112Z
UID:10000024-1732788000-1732798800@siltonvillage.co.uk
SUMMARY:Wyndham Artsists
DESCRIPTION:
URL:https://siltonvillage.co.uk/event/wyndham-artsists-2/2024-11-28/
LOCATION:Village Hall
END:VEVENT
BEGIN:VEVENT
DTSTART;TZID=Europe/London:20241129T180000
DTEND;TZID=Europe/London:20241129T223000
DTSTAMP:20260423T193413
CREATED:20240710T202327Z
LAST-MODIFIED:20240710T202327Z
UID:10000870-1732903200-1732919400@siltonvillage.co.uk
SUMMARY:H.Monksummers
DESCRIPTION:
URL:https://siltonvillage.co.uk/event/h-monksummers-6/
LOCATION:Village Hall
END:VEVENT
BEGIN:VEVENT
DTSTART;TZID=Europe/London:20241130T180000
DTEND;TZID=Europe/London:20241130T223000
DTSTAMP:20260423T193413
CREATED:20241007T200915Z
LAST-MODIFIED:20241007T200915Z
UID:10000905-1732989600-1733005800@siltonvillage.co.uk
SUMMARY:H.Monksummers
DESCRIPTION:
URL:https://siltonvillage.co.uk/event/h-monksummers-11/
LOCATION:Village Hall
END:VEVENT
END:VCALENDAR