BEGIN:VCALENDAR
VERSION:2.0
PRODID:-//Silton Village / Dorset - ECPv6.15.20//NONSGML v1.0//EN
CALSCALE:GREGORIAN
METHOD:PUBLISH
X-ORIGINAL-URL:https://siltonvillage.co.uk
X-WR-CALDESC:Events for Silton Village / Dorset
REFRESH-INTERVAL;VALUE=DURATION:PT1H
X-Robots-Tag:noindex
X-PUBLISHED-TTL:PT1H
BEGIN:VTIMEZONE
TZID:Europe/London
BEGIN:DAYLIGHT
TZOFFSETFROM:+0000
TZOFFSETTO:+0100
TZNAME:BST
DTSTART:20230326T010000
END:DAYLIGHT
BEGIN:STANDARD
TZOFFSETFROM:+0100
TZOFFSETTO:+0000
TZNAME:GMT
DTSTART:20231029T010000
END:STANDARD
BEGIN:DAYLIGHT
TZOFFSETFROM:+0000
TZOFFSETTO:+0100
TZNAME:BST
DTSTART:20240331T010000
END:DAYLIGHT
BEGIN:STANDARD
TZOFFSETFROM:+0100
TZOFFSETTO:+0000
TZNAME:GMT
DTSTART:20241027T010000
END:STANDARD
BEGIN:DAYLIGHT
TZOFFSETFROM:+0000
TZOFFSETTO:+0100
TZNAME:BST
DTSTART:20250330T010000
END:DAYLIGHT
BEGIN:STANDARD
TZOFFSETFROM:+0100
TZOFFSETTO:+0000
TZNAME:GMT
DTSTART:20251026T010000
END:STANDARD
END:VTIMEZONE
BEGIN:VEVENT
DTSTART;TZID=Europe/London:20241205T100000
DTEND;TZID=Europe/London:20241205T130000
DTSTAMP:20260423T180631
CREATED:20240710T200330Z
LAST-MODIFIED:20240927T153112Z
UID:10000025-1733392800-1733403600@siltonvillage.co.uk
SUMMARY:Wyndham Artsists
DESCRIPTION:
URL:https://siltonvillage.co.uk/event/wyndham-artsists-2/2024-12-05/
LOCATION:Village Hall
END:VEVENT
BEGIN:VEVENT
DTSTART;TZID=Europe/London:20241206T100000
DTEND;TZID=Europe/London:20241206T160000
DTSTAMP:20260423T180631
CREATED:20240913T172140Z
LAST-MODIFIED:20240913T172140Z
UID:10000900-1733479200-1733500800@siltonvillage.co.uk
SUMMARY:All day “Christmas Friday Market”
DESCRIPTION:
URL:https://siltonvillage.co.uk/event/all-day-christmas-friday-market/
LOCATION:Village Hall
END:VEVENT
BEGIN:VEVENT
DTSTART;TZID=Europe/London:20241207T120000
DTEND;TZID=Europe/London:20241207T173000
DTSTAMP:20260423T180631
CREATED:20240911T162940Z
LAST-MODIFIED:20240911T162940Z
UID:10000898-1733572800-1733592600@siltonvillage.co.uk
SUMMARY:Christmas Party ( Prep)
DESCRIPTION:
URL:https://siltonvillage.co.uk/event/christmas-party-prep/
LOCATION:Village Hall
END:VEVENT
BEGIN:VEVENT
DTSTART;TZID=Europe/London:20241207T180000
DTEND;TZID=Europe/London:20241207T223000
DTSTAMP:20260423T180631
CREATED:20240911T102142Z
LAST-MODIFIED:20240911T162737Z
UID:10000895-1733594400-1733610600@siltonvillage.co.uk
SUMMARY:Christmas Party
DESCRIPTION:
URL:https://siltonvillage.co.uk/event/christmas-party/
LOCATION:Village Hall
END:VEVENT
BEGIN:VEVENT
DTSTART;TZID=Europe/London:20241208T100000
DTEND;TZID=Europe/London:20241208T170000
DTSTAMP:20260423T180631
CREATED:20240908T163649Z
LAST-MODIFIED:20241024T082435Z
UID:10000891-1733652000-1733677200@siltonvillage.co.uk
SUMMARY:Jonathan Mitchell
DESCRIPTION:
URL:https://siltonvillage.co.uk/event/jonathan-mitchell/
LOCATION:Village Hall
END:VEVENT
BEGIN:VEVENT
DTSTART;TZID=Europe/London:20241209T140000
DTEND;TZID=Europe/London:20241209T170000
DTSTAMP:20260423T180631
CREATED:20240710T080728Z
LAST-MODIFIED:20240723T093736Z
UID:10000791-1733752800-1733763600@siltonvillage.co.uk
SUMMARY:Wessex Motor Cycle Club
DESCRIPTION:
URL:https://siltonvillage.co.uk/event/wessex-motor-cycle-club/2024-12-09/
LOCATION:Village Hall
ATTACH;FMTTYPE=image/png:https://siltonvillage.co.uk/wp-content/uploads/2024/07/image.png
END:VEVENT
BEGIN:VEVENT
DTSTART;TZID=Europe/London:20241211T180000
DTEND;TZID=Europe/London:20241211T220000
DTSTAMP:20260423T180631
CREATED:20241023T115122Z
LAST-MODIFIED:20241023T115122Z
UID:10000907-1733940000-1733954400@siltonvillage.co.uk
SUMMARY:Wessex Wine Society
DESCRIPTION:
URL:https://siltonvillage.co.uk/event/wessex-wine-society-2/
LOCATION:Village Hall
END:VEVENT
BEGIN:VEVENT
DTSTART;TZID=Europe/London:20241212T100000
DTEND;TZID=Europe/London:20241212T130000
DTSTAMP:20260423T180631
CREATED:20240710T200330Z
LAST-MODIFIED:20240927T153112Z
UID:10000026-1733997600-1734008400@siltonvillage.co.uk
SUMMARY:Wyndham Artsists
DESCRIPTION:
URL:https://siltonvillage.co.uk/event/wyndham-artsists-2/2024-12-12/
LOCATION:Village Hall
END:VEVENT
BEGIN:VEVENT
DTSTART;TZID=Europe/London:20241215T180000
DTEND;TZID=Europe/London:20241215T223000
DTSTAMP:20260423T180631
CREATED:20240710T202437Z
LAST-MODIFIED:20241023T115730Z
UID:10000871-1734285600-1734301800@siltonvillage.co.uk
SUMMARY:H.Monksummers
DESCRIPTION:
URL:https://siltonvillage.co.uk/event/h-monksummers-7/
LOCATION:Village Hall
END:VEVENT
END:VCALENDAR