BEGIN:VCALENDAR
VERSION:2.0
PRODID:-//Silton Village / Dorset - ECPv6.15.20//NONSGML v1.0//EN
CALSCALE:GREGORIAN
METHOD:PUBLISH
X-ORIGINAL-URL:https://siltonvillage.co.uk
X-WR-CALDESC:Events for Silton Village / Dorset
REFRESH-INTERVAL;VALUE=DURATION:PT1H
X-Robots-Tag:noindex
X-PUBLISHED-TTL:PT1H
BEGIN:VTIMEZONE
TZID:Europe/London
BEGIN:DAYLIGHT
TZOFFSETFROM:+0000
TZOFFSETTO:+0100
TZNAME:BST
DTSTART:20240331T010000
END:DAYLIGHT
BEGIN:STANDARD
TZOFFSETFROM:+0100
TZOFFSETTO:+0000
TZNAME:GMT
DTSTART:20241027T010000
END:STANDARD
BEGIN:DAYLIGHT
TZOFFSETFROM:+0000
TZOFFSETTO:+0100
TZNAME:BST
DTSTART:20250330T010000
END:DAYLIGHT
BEGIN:STANDARD
TZOFFSETFROM:+0100
TZOFFSETTO:+0000
TZNAME:GMT
DTSTART:20251026T010000
END:STANDARD
BEGIN:DAYLIGHT
TZOFFSETFROM:+0000
TZOFFSETTO:+0100
TZNAME:BST
DTSTART:20260329T010000
END:DAYLIGHT
BEGIN:STANDARD
TZOFFSETFROM:+0100
TZOFFSETTO:+0000
TZNAME:GMT
DTSTART:20261025T010000
END:STANDARD
END:VTIMEZONE
BEGIN:VEVENT
DTSTART;TZID=Europe/London:20250402T143000
DTEND;TZID=Europe/London:20250402T163000
DTSTAMP:20260423T001224
CREATED:20250324T184721Z
LAST-MODIFIED:20250324T205904Z
UID:10001528-1743604200-1743611400@siltonvillage.co.uk
SUMMARY:AGM PCC Meeting
DESCRIPTION:
URL:https://siltonvillage.co.uk/event/apc-meeting/
LOCATION:Village Hall
END:VEVENT
BEGIN:VEVENT
DTSTART;TZID=Europe/London:20250405T100000
DTEND;TZID=Europe/London:20250405T120000
DTSTAMP:20260423T001224
CREATED:20241031T181117Z
LAST-MODIFIED:20241130T165042Z
UID:10000926-1743847200-1743854400@siltonvillage.co.uk
SUMMARY:Annual Allotment & Dog Walking Meeting
DESCRIPTION:
URL:https://siltonvillage.co.uk/event/annual-allotment-dog-walking-meeting/
LOCATION:Village Hall
END:VEVENT
BEGIN:VEVENT
DTSTART;TZID=Europe/London:20250409T093000
DTEND;TZID=Europe/London:20250409T160000
DTSTAMP:20260423T001224
CREATED:20250325T202033Z
LAST-MODIFIED:20250325T202033Z
UID:10001531-1744191000-1744214400@siltonvillage.co.uk
SUMMARY:Wyndham Art Group
DESCRIPTION:
URL:https://siltonvillage.co.uk/event/wyndham-art-group-4/
LOCATION:Village Hall
END:VEVENT
BEGIN:VEVENT
DTSTART;TZID=Europe/London:20250411T180000
DTEND;TZID=Europe/London:20250411T223000
DTSTAMP:20260423T001224
CREATED:20241215T130415Z
LAST-MODIFIED:20241215T130415Z
UID:10001215-1744394400-1744410600@siltonvillage.co.uk
SUMMARY:Hannah Monksummers
DESCRIPTION:
URL:https://siltonvillage.co.uk/event/hannah-monksummers-9/
LOCATION:Village Hall
END:VEVENT
BEGIN:VEVENT
DTSTART;TZID=Europe/London:20250412T160000
DTEND;TZID=Europe/London:20250412T223000
DTSTAMP:20260423T001224
CREATED:20250209T193559Z
LAST-MODIFIED:20250209T193559Z
UID:10001517-1744473600-1744497000@siltonvillage.co.uk
SUMMARY:Village Quiz Night
DESCRIPTION:
URL:https://siltonvillage.co.uk/event/village-quiz-night-2/
LOCATION:Village Hall
END:VEVENT
BEGIN:VEVENT
DTSTART;TZID=Europe/London:20250414T140000
DTEND;TZID=Europe/London:20250414T170000
DTSTAMP:20260423T001224
CREATED:20241215T130559Z
LAST-MODIFIED:20241215T130559Z
UID:10001216-1744639200-1744650000@siltonvillage.co.uk
SUMMARY:Wessex MCC
DESCRIPTION:
URL:https://siltonvillage.co.uk/event/wessex-mcc-4/
LOCATION:Village Hall
END:VEVENT
BEGIN:VEVENT
DTSTART;TZID=Europe/London:20250421T100000
DTEND;TZID=Europe/London:20250421T160000
DTSTAMP:20260423T001224
CREATED:20250127T193003Z
LAST-MODIFIED:20250127T193049Z
UID:10001249-1745229600-1745251200@siltonvillage.co.uk
SUMMARY:Creative Stitch
DESCRIPTION:
URL:https://siltonvillage.co.uk/event/creative-stitch-2/
LOCATION:Village Hall
END:VEVENT
BEGIN:VEVENT
DTSTART;TZID=Europe/London:20250425T093000
DTEND;TZID=Europe/London:20250425T103000
DTSTAMP:20260423T001224
CREATED:20250413T190044Z
LAST-MODIFIED:20250413T190044Z
UID:10001545-1745573400-1745577000@siltonvillage.co.uk
SUMMARY:Private Dog Training
DESCRIPTION:
URL:https://siltonvillage.co.uk/event/private-dog-training/
LOCATION:Field & Wood house
END:VEVENT
BEGIN:VEVENT
DTSTART;TZID=Europe/London:20250430T183000
DTEND;TZID=Europe/London:20250430T213000
DTSTAMP:20260423T001224
CREATED:20250324T213247Z
LAST-MODIFIED:20250324T213247Z
UID:10001530-1746037800-1746048600@siltonvillage.co.uk
SUMMARY:Hannah Monksummers
DESCRIPTION:
URL:https://siltonvillage.co.uk/event/hannah-monksummers-14/
LOCATION:Village Hall
END:VEVENT
END:VCALENDAR