BEGIN:VCALENDAR
VERSION:2.0
PRODID:-//Silton Village / Dorset - ECPv6.15.20//NONSGML v1.0//EN
CALSCALE:GREGORIAN
METHOD:PUBLISH
X-WR-CALNAME:Silton Village / Dorset
X-ORIGINAL-URL:https://siltonvillage.co.uk
X-WR-CALDESC:Events for Silton Village / Dorset
REFRESH-INTERVAL;VALUE=DURATION:PT1H
X-Robots-Tag:noindex
X-PUBLISHED-TTL:PT1H
BEGIN:VTIMEZONE
TZID:Europe/London
BEGIN:DAYLIGHT
TZOFFSETFROM:+0000
TZOFFSETTO:+0100
TZNAME:BST
DTSTART:20240331T010000
END:DAYLIGHT
BEGIN:STANDARD
TZOFFSETFROM:+0100
TZOFFSETTO:+0000
TZNAME:GMT
DTSTART:20241027T010000
END:STANDARD
BEGIN:DAYLIGHT
TZOFFSETFROM:+0000
TZOFFSETTO:+0100
TZNAME:BST
DTSTART:20250330T010000
END:DAYLIGHT
BEGIN:STANDARD
TZOFFSETFROM:+0100
TZOFFSETTO:+0000
TZNAME:GMT
DTSTART:20251026T010000
END:STANDARD
BEGIN:DAYLIGHT
TZOFFSETFROM:+0000
TZOFFSETTO:+0100
TZNAME:BST
DTSTART:20260329T010000
END:DAYLIGHT
BEGIN:STANDARD
TZOFFSETFROM:+0100
TZOFFSETTO:+0000
TZNAME:GMT
DTSTART:20261025T010000
END:STANDARD
END:VTIMEZONE
BEGIN:VEVENT
DTSTART;TZID=Europe/London:20250606T180000
DTEND;TZID=Europe/London:20250606T223000
DTSTAMP:20260422T202120
CREATED:20241215T131904Z
LAST-MODIFIED:20241215T131904Z
UID:10001220-1749232800-1749249000@siltonvillage.co.uk
SUMMARY:Hannah Monksummers
DESCRIPTION:
URL:https://siltonvillage.co.uk/event/hannah-monksummers-12/
LOCATION:Village Hall
END:VEVENT
BEGIN:VEVENT
DTSTART;TZID=Europe/London:20250607T160000
DTEND;TZID=Europe/London:20250607T210000
DTSTAMP:20260422T202120
CREATED:20250530T212319Z
LAST-MODIFIED:20250530T212319Z
UID:10001843-1749312000-1749330000@siltonvillage.co.uk
SUMMARY:Private Birthday Party
DESCRIPTION:
URL:https://siltonvillage.co.uk/event/private-birthday-party/
LOCATION:Village Hall
END:VEVENT
BEGIN:VEVENT
DTSTART;TZID=Europe/London:20250609T120000
DTEND;TZID=Europe/London:20250609T153000
DTSTAMP:20260422T202120
CREATED:20241215T132504Z
LAST-MODIFIED:20250602T191845Z
UID:10001221-1749470400-1749483000@siltonvillage.co.uk
SUMMARY:Wessex MCC
DESCRIPTION:
URL:https://siltonvillage.co.uk/event/wessex-mcc-5/
LOCATION:Village Hall
END:VEVENT
BEGIN:VEVENT
DTSTART;TZID=Europe/London:20250611T093000
DTEND;TZID=Europe/London:20250611T153000
DTSTAMP:20260422T202120
CREATED:20250604T153943Z
LAST-MODIFIED:20250604T153943Z
UID:10001844-1749634200-1749655800@siltonvillage.co.uk
SUMMARY:Evergreen : Education & Therapy
DESCRIPTION:
URL:https://siltonvillage.co.uk/event/evergreen-education-therapy/2025-06-11/
LOCATION:Hall & Woodhouse & Field
END:VEVENT
BEGIN:VEVENT
DTSTART;TZID=Europe/London:20250612T183000
DTEND;TZID=Europe/London:20250612T213000
DTSTAMP:20260422T202120
CREATED:20250425T150639Z
LAST-MODIFIED:20250503T171541Z
UID:10001809-1749753000-1749763800@siltonvillage.co.uk
SUMMARY:Hannah Monksummers ( Sound Bath )
DESCRIPTION:
URL:https://siltonvillage.co.uk/event/white-feather-healing-sound-bath-3/
LOCATION:Village Hall
END:VEVENT
BEGIN:VEVENT
DTSTART;TZID=Europe/London:20250616T100000
DTEND;TZID=Europe/London:20250616T160000
DTSTAMP:20260422T202120
CREATED:20250127T194210Z
LAST-MODIFIED:20250127T194210Z
UID:10001254-1750068000-1750089600@siltonvillage.co.uk
SUMMARY:Creative Stich
DESCRIPTION:
URL:https://siltonvillage.co.uk/event/creative-stich/
LOCATION:Village Hall
END:VEVENT
BEGIN:VEVENT
DTSTART;VALUE=DATE:20250618
DTEND;VALUE=DATE:20250619
DTSTAMP:20260422T202120
CREATED:20250424T101641Z
LAST-MODIFIED:20250424T101641Z
UID:10001806-1750204800-1750291199@siltonvillage.co.uk
SUMMARY:Private Function
DESCRIPTION:
URL:https://siltonvillage.co.uk/event/private-function/
LOCATION:Hall & Woodhouse & Field
END:VEVENT
BEGIN:VEVENT
DTSTART;TZID=Europe/London:20250620T180000
DTEND;TZID=Europe/London:20250620T223000
DTSTAMP:20260422T202120
CREATED:20241215T132718Z
LAST-MODIFIED:20241215T132718Z
UID:10001222-1750442400-1750458600@siltonvillage.co.uk
SUMMARY:Hannah Monksummers
DESCRIPTION:
URL:https://siltonvillage.co.uk/event/hannah-monksummers-13/
LOCATION:Village Hall
END:VEVENT
BEGIN:VEVENT
DTSTART;TZID=Europe/London:20250621T120000
DTEND;TZID=Europe/London:20250621T220000
DTSTAMP:20260422T202120
CREATED:20250314T125059Z
LAST-MODIFIED:20250316T135822Z
UID:10001524-1750507200-1750543200@siltonvillage.co.uk
SUMMARY:Hannah Monksummers : Summer Solstice Retreat
DESCRIPTION:
URL:https://siltonvillage.co.uk/event/hannah-monksummers-summer-solstice-retreat-tbc/
LOCATION:Hall & Woodhouse & Field
END:VEVENT
BEGIN:VEVENT
DTSTART;TZID=Europe/London:20250625T093000
DTEND;TZID=Europe/London:20250625T153000
DTSTAMP:20260422T202120
CREATED:20250604T153943Z
LAST-MODIFIED:20250604T153943Z
UID:10001846-1750843800-1750865400@siltonvillage.co.uk
SUMMARY:Evergreen : Education & Therapy
DESCRIPTION:
URL:https://siltonvillage.co.uk/event/evergreen-education-therapy/2025-06-25/
LOCATION:Hall & Woodhouse & Field
END:VEVENT
END:VCALENDAR