BEGIN:VCALENDAR
VERSION:2.0
PRODID:-//Silton Village / Dorset - ECPv6.15.20//NONSGML v1.0//EN
CALSCALE:GREGORIAN
METHOD:PUBLISH
X-WR-CALNAME:Silton Village / Dorset
X-ORIGINAL-URL:https://siltonvillage.co.uk
X-WR-CALDESC:Events for Silton Village / Dorset
REFRESH-INTERVAL;VALUE=DURATION:PT1H
X-Robots-Tag:noindex
X-PUBLISHED-TTL:PT1H
BEGIN:VTIMEZONE
TZID:Europe/London
BEGIN:DAYLIGHT
TZOFFSETFROM:+0000
TZOFFSETTO:+0100
TZNAME:BST
DTSTART:20250330T010000
END:DAYLIGHT
BEGIN:STANDARD
TZOFFSETFROM:+0100
TZOFFSETTO:+0000
TZNAME:GMT
DTSTART:20251026T010000
END:STANDARD
BEGIN:DAYLIGHT
TZOFFSETFROM:+0000
TZOFFSETTO:+0100
TZNAME:BST
DTSTART:20260329T010000
END:DAYLIGHT
BEGIN:STANDARD
TZOFFSETFROM:+0100
TZOFFSETTO:+0000
TZNAME:GMT
DTSTART:20261025T010000
END:STANDARD
BEGIN:DAYLIGHT
TZOFFSETFROM:+0000
TZOFFSETTO:+0100
TZNAME:BST
DTSTART:20270328T010000
END:DAYLIGHT
BEGIN:STANDARD
TZOFFSETFROM:+0100
TZOFFSETTO:+0000
TZNAME:GMT
DTSTART:20271031T010000
END:STANDARD
END:VTIMEZONE
BEGIN:VEVENT
DTSTART;TZID=Europe/London:20260807T100000
DTEND;TZID=Europe/London:20260807T120000
DTSTAMP:20260423T184448
CREATED:20251017T111227Z
LAST-MODIFIED:20251017T111227Z
UID:10002363-1786096800-1786104000@siltonvillage.co.uk
SUMMARY:Friday Village Market
DESCRIPTION:
URL:https://siltonvillage.co.uk/event/friday-village-market/2026-08-07/
LOCATION:Village Hall
END:VEVENT
BEGIN:VEVENT
DTSTART;TZID=Europe/London:20260807T180000
DTEND;TZID=Europe/London:20260807T203000
DTSTAMP:20260423T184448
CREATED:20260108T121423Z
LAST-MODIFIED:20260108T121540Z
UID:10002896-1786125600-1786134600@siltonvillage.co.uk
SUMMARY:Summer Village BBQ. 🌞
DESCRIPTION:
URL:https://siltonvillage.co.uk/event/summer-village-bbq/
LOCATION:Hall & Woodhouse & Field
END:VEVENT
BEGIN:VEVENT
DTSTART;TZID=Europe/London:20260808T090000
DTEND;TZID=Europe/London:20260808T170000
DTSTAMP:20260423T184448
CREATED:20260213T034725Z
LAST-MODIFIED:20260213T034725Z
UID:10002973-1786179600-1786208400@siltonvillage.co.uk
SUMMARY:Eleanor Rose: Dog Training
DESCRIPTION:
URL:https://siltonvillage.co.uk/event/eleanor-rose-dog-training-2/
LOCATION:Hall & Woodhouse & Field
END:VEVENT
BEGIN:VEVENT
DTSTART;TZID=Europe/London:20260809T090000
DTEND;TZID=Europe/London:20260809T170000
DTSTAMP:20260423T184448
CREATED:20260213T034846Z
LAST-MODIFIED:20260213T034846Z
UID:10002974-1786266000-1786294800@siltonvillage.co.uk
SUMMARY:Eleanor Rose : Dog Training
DESCRIPTION:
URL:https://siltonvillage.co.uk/event/eleanor-rose-dog-training-3/
LOCATION:Hall & Woodhouse & Field
END:VEVENT
BEGIN:VEVENT
DTSTART;TZID=Europe/London:20260810T140000
DTEND;TZID=Europe/London:20260810T170000
DTSTAMP:20260423T184448
CREATED:20251212T182342Z
LAST-MODIFIED:20251212T182342Z
UID:10002623-1786370400-1786381200@siltonvillage.co.uk
SUMMARY:Wessex MCC
DESCRIPTION:
URL:https://siltonvillage.co.uk/event/wessex-mcc-13/2026-08-10/
LOCATION:Village Hall
END:VEVENT
BEGIN:VEVENT
DTSTART;TZID=Europe/London:20260814T100000
DTEND;TZID=Europe/London:20260814T120000
DTSTAMP:20260423T184448
CREATED:20251017T111227Z
LAST-MODIFIED:20251017T111227Z
UID:10002364-1786701600-1786708800@siltonvillage.co.uk
SUMMARY:Friday Village Market
DESCRIPTION:
URL:https://siltonvillage.co.uk/event/friday-village-market/2026-08-14/
LOCATION:Village Hall
END:VEVENT
BEGIN:VEVENT
DTSTART;TZID=Europe/London:20260821T100000
DTEND;TZID=Europe/London:20260821T120000
DTSTAMP:20260423T184448
CREATED:20251017T111227Z
LAST-MODIFIED:20251017T111227Z
UID:10002365-1787306400-1787313600@siltonvillage.co.uk
SUMMARY:Friday Village Market
DESCRIPTION:
URL:https://siltonvillage.co.uk/event/friday-village-market/2026-08-21/
LOCATION:Village Hall
END:VEVENT
BEGIN:VEVENT
DTSTART;TZID=Europe/London:20260828T100000
DTEND;TZID=Europe/London:20260828T120000
DTSTAMP:20260423T184448
CREATED:20251017T111227Z
LAST-MODIFIED:20251017T111227Z
UID:10002366-1787911200-1787918400@siltonvillage.co.uk
SUMMARY:Friday Village Market
DESCRIPTION:
URL:https://siltonvillage.co.uk/event/friday-village-market/2026-08-28/
LOCATION:Village Hall
END:VEVENT
END:VCALENDAR