BEGIN:VCALENDAR
VERSION:2.0
PRODID:-//Silton Village / Dorset - ECPv6.15.20//NONSGML v1.0//EN
CALSCALE:GREGORIAN
METHOD:PUBLISH
X-WR-CALNAME:Silton Village / Dorset
X-ORIGINAL-URL:https://siltonvillage.co.uk
X-WR-CALDESC:Events for Silton Village / Dorset
REFRESH-INTERVAL;VALUE=DURATION:PT1H
X-Robots-Tag:noindex
X-PUBLISHED-TTL:PT1H
BEGIN:VTIMEZONE
TZID:Europe/London
BEGIN:DAYLIGHT
TZOFFSETFROM:+0000
TZOFFSETTO:+0100
TZNAME:BST
DTSTART:20250330T010000
END:DAYLIGHT
BEGIN:STANDARD
TZOFFSETFROM:+0100
TZOFFSETTO:+0000
TZNAME:GMT
DTSTART:20251026T010000
END:STANDARD
BEGIN:DAYLIGHT
TZOFFSETFROM:+0000
TZOFFSETTO:+0100
TZNAME:BST
DTSTART:20260329T010000
END:DAYLIGHT
BEGIN:STANDARD
TZOFFSETFROM:+0100
TZOFFSETTO:+0000
TZNAME:GMT
DTSTART:20261025T010000
END:STANDARD
BEGIN:DAYLIGHT
TZOFFSETFROM:+0000
TZOFFSETTO:+0100
TZNAME:BST
DTSTART:20270328T010000
END:DAYLIGHT
BEGIN:STANDARD
TZOFFSETFROM:+0100
TZOFFSETTO:+0000
TZNAME:GMT
DTSTART:20271031T010000
END:STANDARD
END:VTIMEZONE
BEGIN:VEVENT
DTSTART;TZID=Europe/London:20261105T013000
DTEND;TZID=Europe/London:20261105T163000
DTSTAMP:20260424T153956
CREATED:20260112T155618Z
LAST-MODIFIED:20260112T155618Z
UID:10002953-1793842200-1793896200@siltonvillage.co.uk
SUMMARY:Castle Hill Quilters 2026
DESCRIPTION:
URL:https://siltonvillage.co.uk/event/castle-hill-quilters-2026/2026-11-05/
END:VEVENT
BEGIN:VEVENT
DTSTART;TZID=Europe/London:20261106T100000
DTEND;TZID=Europe/London:20261106T120000
DTSTAMP:20260424T153956
CREATED:20251017T111227Z
LAST-MODIFIED:20251017T111227Z
UID:10002376-1793959200-1793966400@siltonvillage.co.uk
SUMMARY:Friday Village Market
DESCRIPTION:
URL:https://siltonvillage.co.uk/event/friday-village-market/2026-11-06/
LOCATION:Village Hall
END:VEVENT
BEGIN:VEVENT
DTSTART;TZID=Europe/London:20261109T140000
DTEND;TZID=Europe/London:20261109T170000
DTSTAMP:20260424T153956
CREATED:20251212T182342Z
LAST-MODIFIED:20251212T182342Z
UID:10002627-1794232800-1794243600@siltonvillage.co.uk
SUMMARY:Wessex MCC
DESCRIPTION:
URL:https://siltonvillage.co.uk/event/wessex-mcc-13/2026-11-09/
LOCATION:Village Hall
END:VEVENT
BEGIN:VEVENT
DTSTART;TZID=Europe/London:20261112T013000
DTEND;TZID=Europe/London:20261112T163000
DTSTAMP:20260424T153956
CREATED:20260112T155618Z
LAST-MODIFIED:20260112T155618Z
UID:10002954-1794447000-1794501000@siltonvillage.co.uk
SUMMARY:Castle Hill Quilters 2026
DESCRIPTION:
URL:https://siltonvillage.co.uk/event/castle-hill-quilters-2026/2026-11-12/
END:VEVENT
BEGIN:VEVENT
DTSTART;TZID=Europe/London:20261113T100000
DTEND;TZID=Europe/London:20261113T120000
DTSTAMP:20260424T153956
CREATED:20251017T111227Z
LAST-MODIFIED:20251017T111227Z
UID:10002377-1794564000-1794571200@siltonvillage.co.uk
SUMMARY:Friday Village Market
DESCRIPTION:
URL:https://siltonvillage.co.uk/event/friday-village-market/2026-11-13/
LOCATION:Village Hall
END:VEVENT
BEGIN:VEVENT
DTSTART;TZID=Europe/London:20261119T013000
DTEND;TZID=Europe/London:20261119T163000
DTSTAMP:20260424T153956
CREATED:20260112T155618Z
LAST-MODIFIED:20260112T155618Z
UID:10002955-1795051800-1795105800@siltonvillage.co.uk
SUMMARY:Castle Hill Quilters 2026
DESCRIPTION:
URL:https://siltonvillage.co.uk/event/castle-hill-quilters-2026/2026-11-19/
END:VEVENT
BEGIN:VEVENT
DTSTART;TZID=Europe/London:20261120T100000
DTEND;TZID=Europe/London:20261120T120000
DTSTAMP:20260424T153956
CREATED:20251017T111227Z
LAST-MODIFIED:20251017T111227Z
UID:10002378-1795168800-1795176000@siltonvillage.co.uk
SUMMARY:Friday Village Market
DESCRIPTION:
URL:https://siltonvillage.co.uk/event/friday-village-market/2026-11-20/
LOCATION:Village Hall
END:VEVENT
BEGIN:VEVENT
DTSTART;TZID=Europe/London:20261126T013000
DTEND;TZID=Europe/London:20261126T163000
DTSTAMP:20260424T153956
CREATED:20260112T155618Z
LAST-MODIFIED:20260112T155618Z
UID:10002956-1795656600-1795710600@siltonvillage.co.uk
SUMMARY:Castle Hill Quilters 2026
DESCRIPTION:
URL:https://siltonvillage.co.uk/event/castle-hill-quilters-2026/2026-11-26/
END:VEVENT
BEGIN:VEVENT
DTSTART;TZID=Europe/London:20261127T100000
DTEND;TZID=Europe/London:20261127T120000
DTSTAMP:20260424T153956
CREATED:20251017T111227Z
LAST-MODIFIED:20251017T111227Z
UID:10002379-1795773600-1795780800@siltonvillage.co.uk
SUMMARY:Friday Village Market
DESCRIPTION:
URL:https://siltonvillage.co.uk/event/friday-village-market/2026-11-27/
LOCATION:Village Hall
END:VEVENT
END:VCALENDAR