BEGIN:VCALENDAR
VERSION:2.0
PRODID:-//Silton Village / Dorset - ECPv6.15.20//NONSGML v1.0//EN
CALSCALE:GREGORIAN
METHOD:PUBLISH
X-ORIGINAL-URL:https://siltonvillage.co.uk
X-WR-CALDESC:Events for Silton Village / Dorset
REFRESH-INTERVAL;VALUE=DURATION:PT1H
X-Robots-Tag:noindex
X-PUBLISHED-TTL:PT1H
BEGIN:VTIMEZONE
TZID:Europe/London
BEGIN:DAYLIGHT
TZOFFSETFROM:+0000
TZOFFSETTO:+0100
TZNAME:BST
DTSTART:20260329T010000
END:DAYLIGHT
BEGIN:STANDARD
TZOFFSETFROM:+0100
TZOFFSETTO:+0000
TZNAME:GMT
DTSTART:20261025T010000
END:STANDARD
BEGIN:DAYLIGHT
TZOFFSETFROM:+0000
TZOFFSETTO:+0100
TZNAME:BST
DTSTART:20270328T010000
END:DAYLIGHT
BEGIN:STANDARD
TZOFFSETFROM:+0100
TZOFFSETTO:+0000
TZNAME:GMT
DTSTART:20271031T010000
END:STANDARD
BEGIN:DAYLIGHT
TZOFFSETFROM:+0000
TZOFFSETTO:+0100
TZNAME:BST
DTSTART:20280326T010000
END:DAYLIGHT
BEGIN:STANDARD
TZOFFSETFROM:+0100
TZOFFSETTO:+0000
TZNAME:GMT
DTSTART:20281029T010000
END:STANDARD
END:VTIMEZONE
BEGIN:VEVENT
DTSTART;TZID=Europe/London:20270101T100000
DTEND;TZID=Europe/London:20270101T120000
DTSTAMP:20260424T184103
CREATED:20251017T111227Z
LAST-MODIFIED:20251017T111227Z
UID:10002384-1798797600-1798804800@siltonvillage.co.uk
SUMMARY:Friday Village Market
DESCRIPTION:
URL:https://siltonvillage.co.uk/event/friday-village-market/2027-01-01/
LOCATION:Village Hall
END:VEVENT
BEGIN:VEVENT
DTSTART;TZID=Europe/London:20270108T100000
DTEND;TZID=Europe/London:20270108T120000
DTSTAMP:20260424T184103
CREATED:20251017T111227Z
LAST-MODIFIED:20251017T111227Z
UID:10002385-1799402400-1799409600@siltonvillage.co.uk
SUMMARY:Friday Village Market
DESCRIPTION:
URL:https://siltonvillage.co.uk/event/friday-village-market/2027-01-08/
LOCATION:Village Hall
END:VEVENT
BEGIN:VEVENT
DTSTART;TZID=Europe/London:20270115T100000
DTEND;TZID=Europe/London:20270115T120000
DTSTAMP:20260424T184103
CREATED:20251017T111227Z
LAST-MODIFIED:20251017T111227Z
UID:10002386-1800007200-1800014400@siltonvillage.co.uk
SUMMARY:Friday Village Market
DESCRIPTION:
URL:https://siltonvillage.co.uk/event/friday-village-market/2027-01-15/
LOCATION:Village Hall
END:VEVENT
BEGIN:VEVENT
DTSTART;TZID=Europe/London:20270122T100000
DTEND;TZID=Europe/London:20270122T120000
DTSTAMP:20260424T184103
CREATED:20251017T111227Z
LAST-MODIFIED:20251017T111227Z
UID:10002387-1800612000-1800619200@siltonvillage.co.uk
SUMMARY:Friday Village Market
DESCRIPTION:
URL:https://siltonvillage.co.uk/event/friday-village-market/2027-01-22/
LOCATION:Village Hall
END:VEVENT
BEGIN:VEVENT
DTSTART;TZID=Europe/London:20270129T100000
DTEND;TZID=Europe/London:20270129T120000
DTSTAMP:20260424T184103
CREATED:20251017T111227Z
LAST-MODIFIED:20251017T111227Z
UID:10002388-1801216800-1801224000@siltonvillage.co.uk
SUMMARY:Friday Village Market
DESCRIPTION:
URL:https://siltonvillage.co.uk/event/friday-village-market/2027-01-29/
LOCATION:Village Hall
END:VEVENT
END:VCALENDAR