BEGIN:VCALENDAR
VERSION:2.0
PRODID:-//Silton Village / Dorset - ECPv6.15.20//NONSGML v1.0//EN
CALSCALE:GREGORIAN
METHOD:PUBLISH
X-WR-CALNAME:Silton Village / Dorset
X-ORIGINAL-URL:https://siltonvillage.co.uk
X-WR-CALDESC:Events for Silton Village / Dorset
REFRESH-INTERVAL;VALUE=DURATION:PT1H
X-Robots-Tag:noindex
X-PUBLISHED-TTL:PT1H
BEGIN:VTIMEZONE
TZID:Europe/London
BEGIN:DAYLIGHT
TZOFFSETFROM:+0000
TZOFFSETTO:+0100
TZNAME:BST
DTSTART:20260329T010000
END:DAYLIGHT
BEGIN:STANDARD
TZOFFSETFROM:+0100
TZOFFSETTO:+0000
TZNAME:GMT
DTSTART:20261025T010000
END:STANDARD
BEGIN:DAYLIGHT
TZOFFSETFROM:+0000
TZOFFSETTO:+0100
TZNAME:BST
DTSTART:20270328T010000
END:DAYLIGHT
BEGIN:STANDARD
TZOFFSETFROM:+0100
TZOFFSETTO:+0000
TZNAME:GMT
DTSTART:20271031T010000
END:STANDARD
BEGIN:DAYLIGHT
TZOFFSETFROM:+0000
TZOFFSETTO:+0100
TZNAME:BST
DTSTART:20280326T010000
END:DAYLIGHT
BEGIN:STANDARD
TZOFFSETFROM:+0100
TZOFFSETTO:+0000
TZNAME:GMT
DTSTART:20281029T010000
END:STANDARD
END:VTIMEZONE
BEGIN:VEVENT
DTSTART;TZID=Europe/London:20270205T100000
DTEND;TZID=Europe/London:20270205T120000
DTSTAMP:20260424T200706
CREATED:20251017T111227Z
LAST-MODIFIED:20251017T111227Z
UID:10002389-1801821600-1801828800@siltonvillage.co.uk
SUMMARY:Friday Village Market
DESCRIPTION:
URL:https://siltonvillage.co.uk/event/friday-village-market/2027-02-05/
LOCATION:Village Hall
END:VEVENT
BEGIN:VEVENT
DTSTART;TZID=Europe/London:20270212T100000
DTEND;TZID=Europe/London:20270212T120000
DTSTAMP:20260424T200706
CREATED:20251017T111227Z
LAST-MODIFIED:20251017T111227Z
UID:10002390-1802426400-1802433600@siltonvillage.co.uk
SUMMARY:Friday Village Market
DESCRIPTION:
URL:https://siltonvillage.co.uk/event/friday-village-market/2027-02-12/
LOCATION:Village Hall
END:VEVENT
BEGIN:VEVENT
DTSTART;TZID=Europe/London:20270219T100000
DTEND;TZID=Europe/London:20270219T120000
DTSTAMP:20260424T200706
CREATED:20251017T111227Z
LAST-MODIFIED:20251017T111227Z
UID:10002391-1803031200-1803038400@siltonvillage.co.uk
SUMMARY:Friday Village Market
DESCRIPTION:
URL:https://siltonvillage.co.uk/event/friday-village-market/2027-02-19/
LOCATION:Village Hall
END:VEVENT
BEGIN:VEVENT
DTSTART;TZID=Europe/London:20270226T100000
DTEND;TZID=Europe/London:20270226T120000
DTSTAMP:20260424T200706
CREATED:20251017T111227Z
LAST-MODIFIED:20251017T111227Z
UID:10002392-1803636000-1803643200@siltonvillage.co.uk
SUMMARY:Friday Village Market
DESCRIPTION:
URL:https://siltonvillage.co.uk/event/friday-village-market/2027-02-26/
LOCATION:Village Hall
END:VEVENT
END:VCALENDAR