BEGIN:VCALENDAR
VERSION:2.0
PRODID:-//Silton Village / Dorset - ECPv6.15.20//NONSGML v1.0//EN
CALSCALE:GREGORIAN
METHOD:PUBLISH
X-ORIGINAL-URL:https://siltonvillage.co.uk
X-WR-CALDESC:Events for Silton Village / Dorset
REFRESH-INTERVAL;VALUE=DURATION:PT1H
X-Robots-Tag:noindex
X-PUBLISHED-TTL:PT1H
BEGIN:VTIMEZONE
TZID:Europe/London
BEGIN:DAYLIGHT
TZOFFSETFROM:+0000
TZOFFSETTO:+0100
TZNAME:BST
DTSTART:20250330T010000
END:DAYLIGHT
BEGIN:STANDARD
TZOFFSETFROM:+0100
TZOFFSETTO:+0000
TZNAME:GMT
DTSTART:20251026T010000
END:STANDARD
BEGIN:DAYLIGHT
TZOFFSETFROM:+0000
TZOFFSETTO:+0100
TZNAME:BST
DTSTART:20260329T010000
END:DAYLIGHT
BEGIN:STANDARD
TZOFFSETFROM:+0100
TZOFFSETTO:+0000
TZNAME:GMT
DTSTART:20261025T010000
END:STANDARD
BEGIN:DAYLIGHT
TZOFFSETFROM:+0000
TZOFFSETTO:+0100
TZNAME:BST
DTSTART:20270328T010000
END:DAYLIGHT
BEGIN:STANDARD
TZOFFSETFROM:+0100
TZOFFSETTO:+0000
TZNAME:GMT
DTSTART:20271031T010000
END:STANDARD
END:VTIMEZONE
BEGIN:VEVENT
DTSTART;TZID=Europe/London:20260724T100000
DTEND;TZID=Europe/London:20260724T120000
DTSTAMP:20260421T144813
CREATED:20251017T111227Z
LAST-MODIFIED:20251017T111227Z
UID:10002361-1784887200-1784894400@siltonvillage.co.uk
SUMMARY:Friday Village Market
DESCRIPTION:
URL:https://siltonvillage.co.uk/event/friday-village-market/2026-07-24/
LOCATION:Village Hall
END:VEVENT
BEGIN:VEVENT
DTSTART;TZID=Europe/London:20260724T140000
DTEND;TZID=Europe/London:20260724T163000
DTSTAMP:20260421T144813
CREATED:20260120T034734Z
LAST-MODIFIED:20260120T034734Z
UID:10002963-1784901600-1784910600@siltonvillage.co.uk
SUMMARY:Village Summer Coffee Morning :setting up
DESCRIPTION:
URL:https://siltonvillage.co.uk/event/village-summer-coffee-morning-setting-up/
LOCATION:Village Hall
END:VEVENT
BEGIN:VEVENT
DTSTART;TZID=Europe/London:20260725T090000
DTEND;TZID=Europe/London:20260725T130000
DTSTAMP:20260421T144813
CREATED:20260120T034951Z
LAST-MODIFIED:20260120T034951Z
UID:10002964-1784970000-1784984400@siltonvillage.co.uk
SUMMARY:Village Coffee Morning ☕️
DESCRIPTION:
URL:https://siltonvillage.co.uk/event/village-coffee-morning-%e2%98%95%ef%b8%8f/
LOCATION:Village Hall
END:VEVENT
BEGIN:VEVENT
DTSTART;TZID=Europe/London:20260727T190000
DTEND;TZID=Europe/London:20260727T203000
DTSTAMP:20260421T144813
CREATED:20260413T191917Z
LAST-MODIFIED:20260413T191917Z
UID:10002983-1785178800-1785184200@siltonvillage.co.uk
SUMMARY:Village Hall Meeting
DESCRIPTION:
URL:https://siltonvillage.co.uk/event/village-hall-meeting-3/
LOCATION:Village Hall
END:VEVENT
BEGIN:VEVENT
DTSTART;TZID=Europe/London:20260731T100000
DTEND;TZID=Europe/London:20260731T120000
DTSTAMP:20260421T144813
CREATED:20251017T111227Z
LAST-MODIFIED:20251017T111227Z
UID:10002362-1785492000-1785499200@siltonvillage.co.uk
SUMMARY:Friday Village Market
DESCRIPTION:
URL:https://siltonvillage.co.uk/event/friday-village-market/2026-07-31/
LOCATION:Village Hall
END:VEVENT
BEGIN:VEVENT
DTSTART;TZID=Europe/London:20260807T100000
DTEND;TZID=Europe/London:20260807T120000
DTSTAMP:20260421T144813
CREATED:20251017T111227Z
LAST-MODIFIED:20251017T111227Z
UID:10002363-1786096800-1786104000@siltonvillage.co.uk
SUMMARY:Friday Village Market
DESCRIPTION:
URL:https://siltonvillage.co.uk/event/friday-village-market/2026-08-07/
LOCATION:Village Hall
END:VEVENT
BEGIN:VEVENT
DTSTART;TZID=Europe/London:20260810T140000
DTEND;TZID=Europe/London:20260810T170000
DTSTAMP:20260421T144813
CREATED:20251212T182342Z
LAST-MODIFIED:20251212T182342Z
UID:10002623-1786370400-1786381200@siltonvillage.co.uk
SUMMARY:Wessex MCC
DESCRIPTION:
URL:https://siltonvillage.co.uk/event/wessex-mcc-13/2026-08-10/
LOCATION:Village Hall
END:VEVENT
BEGIN:VEVENT
DTSTART;TZID=Europe/London:20260814T100000
DTEND;TZID=Europe/London:20260814T120000
DTSTAMP:20260421T144813
CREATED:20251017T111227Z
LAST-MODIFIED:20251017T111227Z
UID:10002364-1786701600-1786708800@siltonvillage.co.uk
SUMMARY:Friday Village Market
DESCRIPTION:
URL:https://siltonvillage.co.uk/event/friday-village-market/2026-08-14/
LOCATION:Village Hall
END:VEVENT
BEGIN:VEVENT
DTSTART;TZID=Europe/London:20260821T100000
DTEND;TZID=Europe/London:20260821T120000
DTSTAMP:20260421T144813
CREATED:20251017T111227Z
LAST-MODIFIED:20251017T111227Z
UID:10002365-1787306400-1787313600@siltonvillage.co.uk
SUMMARY:Friday Village Market
DESCRIPTION:
URL:https://siltonvillage.co.uk/event/friday-village-market/2026-08-21/
LOCATION:Village Hall
END:VEVENT
BEGIN:VEVENT
DTSTART;TZID=Europe/London:20260828T100000
DTEND;TZID=Europe/London:20260828T120000
DTSTAMP:20260421T144813
CREATED:20251017T111227Z
LAST-MODIFIED:20251017T111227Z
UID:10002366-1787911200-1787918400@siltonvillage.co.uk
SUMMARY:Friday Village Market
DESCRIPTION:
URL:https://siltonvillage.co.uk/event/friday-village-market/2026-08-28/
LOCATION:Village Hall
END:VEVENT
BEGIN:VEVENT
DTSTART;TZID=Europe/London:20260904T100000
DTEND;TZID=Europe/London:20260904T120000
DTSTAMP:20260421T144813
CREATED:20251017T111227Z
LAST-MODIFIED:20251017T111227Z
UID:10002367-1788516000-1788523200@siltonvillage.co.uk
SUMMARY:Friday Village Market
DESCRIPTION:
URL:https://siltonvillage.co.uk/event/friday-village-market/2026-09-04/
LOCATION:Village Hall
END:VEVENT
BEGIN:VEVENT
DTSTART;TZID=Europe/London:20260906T090000
DTEND;TZID=Europe/London:20260906T170000
DTSTAMP:20260421T144813
CREATED:20251212T182748Z
LAST-MODIFIED:20251212T182748Z
UID:10002624-1788685200-1788714000@siltonvillage.co.uk
SUMMARY:Wessex MCC TBC
DESCRIPTION:
URL:https://siltonvillage.co.uk/event/wessex-mcc-13-2/
LOCATION:Village Hall
END:VEVENT
BEGIN:VEVENT
DTSTART;TZID=Europe/London:20260911T100000
DTEND;TZID=Europe/London:20260911T120000
DTSTAMP:20260421T144813
CREATED:20251017T111227Z
LAST-MODIFIED:20251017T111227Z
UID:10002368-1789120800-1789128000@siltonvillage.co.uk
SUMMARY:Friday Village Market
DESCRIPTION:
URL:https://siltonvillage.co.uk/event/friday-village-market/2026-09-11/
LOCATION:Village Hall
END:VEVENT
BEGIN:VEVENT
DTSTART;TZID=Europe/London:20260914T140000
DTEND;TZID=Europe/London:20260914T170000
DTSTAMP:20260421T144813
CREATED:20251212T182342Z
LAST-MODIFIED:20251212T182342Z
UID:10002625-1789394400-1789405200@siltonvillage.co.uk
SUMMARY:Wessex MCC
DESCRIPTION:
URL:https://siltonvillage.co.uk/event/wessex-mcc-13/2026-09-14/
LOCATION:Village Hall
END:VEVENT
BEGIN:VEVENT
DTSTART;TZID=Europe/London:20260918T100000
DTEND;TZID=Europe/London:20260918T120000
DTSTAMP:20260421T144813
CREATED:20251017T111227Z
LAST-MODIFIED:20251017T111227Z
UID:10002369-1789725600-1789732800@siltonvillage.co.uk
SUMMARY:Friday Village Market
DESCRIPTION:
URL:https://siltonvillage.co.uk/event/friday-village-market/2026-09-18/
LOCATION:Village Hall
END:VEVENT
BEGIN:VEVENT
DTSTART;TZID=Europe/London:20260925T100000
DTEND;TZID=Europe/London:20260925T120000
DTSTAMP:20260421T144813
CREATED:20251017T111227Z
LAST-MODIFIED:20251017T111227Z
UID:10002370-1790330400-1790337600@siltonvillage.co.uk
SUMMARY:Friday Village Market
DESCRIPTION:
URL:https://siltonvillage.co.uk/event/friday-village-market/2026-09-25/
LOCATION:Village Hall
END:VEVENT
BEGIN:VEVENT
DTSTART;TZID=Europe/London:20261002T100000
DTEND;TZID=Europe/London:20261002T120000
DTSTAMP:20260421T144813
CREATED:20251017T111227Z
LAST-MODIFIED:20251017T111227Z
UID:10002371-1790935200-1790942400@siltonvillage.co.uk
SUMMARY:Friday Village Market
DESCRIPTION:
URL:https://siltonvillage.co.uk/event/friday-village-market/2026-10-02/
LOCATION:Village Hall
END:VEVENT
BEGIN:VEVENT
DTSTART;TZID=Europe/London:20261009T100000
DTEND;TZID=Europe/London:20261009T120000
DTSTAMP:20260421T144813
CREATED:20251017T111227Z
LAST-MODIFIED:20251017T111227Z
UID:10002372-1791540000-1791547200@siltonvillage.co.uk
SUMMARY:Friday Village Market
DESCRIPTION:
URL:https://siltonvillage.co.uk/event/friday-village-market/2026-10-09/
LOCATION:Village Hall
END:VEVENT
BEGIN:VEVENT
DTSTART;TZID=Europe/London:20261012T140000
DTEND;TZID=Europe/London:20261012T170000
DTSTAMP:20260421T144813
CREATED:20251212T182342Z
LAST-MODIFIED:20251212T182342Z
UID:10002626-1791813600-1791824400@siltonvillage.co.uk
SUMMARY:Wessex MCC
DESCRIPTION:
URL:https://siltonvillage.co.uk/event/wessex-mcc-13/2026-10-12/
LOCATION:Village Hall
END:VEVENT
BEGIN:VEVENT
DTSTART;TZID=Europe/London:20261016T100000
DTEND;TZID=Europe/London:20261016T120000
DTSTAMP:20260421T144813
CREATED:20251017T111227Z
LAST-MODIFIED:20251017T111227Z
UID:10002373-1792144800-1792152000@siltonvillage.co.uk
SUMMARY:Friday Village Market
DESCRIPTION:
URL:https://siltonvillage.co.uk/event/friday-village-market/2026-10-16/
LOCATION:Village Hall
END:VEVENT
BEGIN:VEVENT
DTSTART;TZID=Europe/London:20261023T100000
DTEND;TZID=Europe/London:20261023T120000
DTSTAMP:20260421T144813
CREATED:20251017T111227Z
LAST-MODIFIED:20251017T111227Z
UID:10002374-1792749600-1792756800@siltonvillage.co.uk
SUMMARY:Friday Village Market
DESCRIPTION:
URL:https://siltonvillage.co.uk/event/friday-village-market/2026-10-23/
LOCATION:Village Hall
END:VEVENT
BEGIN:VEVENT
DTSTART;TZID=Europe/London:20261030T100000
DTEND;TZID=Europe/London:20261030T120000
DTSTAMP:20260421T144813
CREATED:20251017T111227Z
LAST-MODIFIED:20251017T111227Z
UID:10002375-1793354400-1793361600@siltonvillage.co.uk
SUMMARY:Friday Village Market
DESCRIPTION:
URL:https://siltonvillage.co.uk/event/friday-village-market/2026-10-30/
LOCATION:Village Hall
END:VEVENT
BEGIN:VEVENT
DTSTART;TZID=Europe/London:20261106T100000
DTEND;TZID=Europe/London:20261106T120000
DTSTAMP:20260421T144813
CREATED:20251017T111227Z
LAST-MODIFIED:20251017T111227Z
UID:10002376-1793959200-1793966400@siltonvillage.co.uk
SUMMARY:Friday Village Market
DESCRIPTION:
URL:https://siltonvillage.co.uk/event/friday-village-market/2026-11-06/
LOCATION:Village Hall
END:VEVENT
BEGIN:VEVENT
DTSTART;TZID=Europe/London:20261109T140000
DTEND;TZID=Europe/London:20261109T170000
DTSTAMP:20260421T144813
CREATED:20251212T182342Z
LAST-MODIFIED:20251212T182342Z
UID:10002627-1794232800-1794243600@siltonvillage.co.uk
SUMMARY:Wessex MCC
DESCRIPTION:
URL:https://siltonvillage.co.uk/event/wessex-mcc-13/2026-11-09/
LOCATION:Village Hall
END:VEVENT
BEGIN:VEVENT
DTSTART;TZID=Europe/London:20261113T100000
DTEND;TZID=Europe/London:20261113T120000
DTSTAMP:20260421T144813
CREATED:20251017T111227Z
LAST-MODIFIED:20251017T111227Z
UID:10002377-1794564000-1794571200@siltonvillage.co.uk
SUMMARY:Friday Village Market
DESCRIPTION:
URL:https://siltonvillage.co.uk/event/friday-village-market/2026-11-13/
LOCATION:Village Hall
END:VEVENT
BEGIN:VEVENT
DTSTART;TZID=Europe/London:20261120T100000
DTEND;TZID=Europe/London:20261120T120000
DTSTAMP:20260421T144813
CREATED:20251017T111227Z
LAST-MODIFIED:20251017T111227Z
UID:10002378-1795168800-1795176000@siltonvillage.co.uk
SUMMARY:Friday Village Market
DESCRIPTION:
URL:https://siltonvillage.co.uk/event/friday-village-market/2026-11-20/
LOCATION:Village Hall
END:VEVENT
BEGIN:VEVENT
DTSTART;TZID=Europe/London:20261127T100000
DTEND;TZID=Europe/London:20261127T120000
DTSTAMP:20260421T144813
CREATED:20251017T111227Z
LAST-MODIFIED:20251017T111227Z
UID:10002379-1795773600-1795780800@siltonvillage.co.uk
SUMMARY:Friday Village Market
DESCRIPTION:
URL:https://siltonvillage.co.uk/event/friday-village-market/2026-11-27/
LOCATION:Village Hall
END:VEVENT
BEGIN:VEVENT
DTSTART;TZID=Europe/London:20261204T100000
DTEND;TZID=Europe/London:20261204T120000
DTSTAMP:20260421T144813
CREATED:20251017T111227Z
LAST-MODIFIED:20251017T111227Z
UID:10002380-1796378400-1796385600@siltonvillage.co.uk
SUMMARY:Friday Village Market
DESCRIPTION:
URL:https://siltonvillage.co.uk/event/friday-village-market/2026-12-04/
LOCATION:Village Hall
END:VEVENT
BEGIN:VEVENT
DTSTART;TZID=Europe/London:20261211T100000
DTEND;TZID=Europe/London:20261211T120000
DTSTAMP:20260421T144813
CREATED:20251017T111227Z
LAST-MODIFIED:20251017T111227Z
UID:10002381-1796983200-1796990400@siltonvillage.co.uk
SUMMARY:Friday Village Market
DESCRIPTION:
URL:https://siltonvillage.co.uk/event/friday-village-market/2026-12-11/
LOCATION:Village Hall
END:VEVENT
BEGIN:VEVENT
DTSTART;TZID=Europe/London:20261214T140000
DTEND;TZID=Europe/London:20261214T170000
DTSTAMP:20260421T144813
CREATED:20251212T182342Z
LAST-MODIFIED:20251212T182342Z
UID:10002628-1797256800-1797267600@siltonvillage.co.uk
SUMMARY:Wessex MCC
DESCRIPTION:
URL:https://siltonvillage.co.uk/event/wessex-mcc-13/2026-12-14/
LOCATION:Village Hall
END:VEVENT
END:VCALENDAR